BEGIN:VCALENDAR
VERSION:2.0
PRODID:-// - ECPv6.15.20//NONSGML v1.0//EN
CALSCALE:GREGORIAN
METHOD:PUBLISH
X-ORIGINAL-URL:https://unlimitedautomationfest.com
X-WR-CALDESC:Events for 
REFRESH-INTERVAL;VALUE=DURATION:PT1H
X-Robots-Tag:noindex
X-PUBLISHED-TTL:PT1H
BEGIN:VTIMEZONE
TZID:America/Tijuana
BEGIN:DAYLIGHT
TZOFFSETFROM:-0800
TZOFFSETTO:-0700
TZNAME:PDT
DTSTART:20240310T100000
END:DAYLIGHT
BEGIN:STANDARD
TZOFFSETFROM:-0700
TZOFFSETTO:-0800
TZNAME:PST
DTSTART:20241103T090000
END:STANDARD
BEGIN:DAYLIGHT
TZOFFSETFROM:-0800
TZOFFSETTO:-0700
TZNAME:PDT
DTSTART:20250309T100000
END:DAYLIGHT
BEGIN:STANDARD
TZOFFSETFROM:-0700
TZOFFSETTO:-0800
TZNAME:PST
DTSTART:20251102T090000
END:STANDARD
BEGIN:DAYLIGHT
TZOFFSETFROM:-0800
TZOFFSETTO:-0700
TZNAME:PDT
DTSTART:20260308T100000
END:DAYLIGHT
BEGIN:STANDARD
TZOFFSETFROM:-0700
TZOFFSETTO:-0800
TZNAME:PST
DTSTART:20261101T090000
END:STANDARD
END:VTIMEZONE
BEGIN:VEVENT
DTSTART;TZID=America/Tijuana:20250812T140000
DTEND;TZID=America/Tijuana:20250812T170000
DTSTAMP:20260422T062331
CREATED:20250710T192927Z
LAST-MODIFIED:20250812T184836Z
UID:468-1755007200-1755018000@unlimitedautomationfest.com
SUMMARY:Seminario: Marcadores Laser y Lectores de Codigo | 12 de Agosto | Tijuana
DESCRIPTION:En este seminario especializado\, exploraremos las tecnologías avanzadas de Datalogic\, líder mundial en marcadores láser y lectores de código de barras\, diseñados para optimizar procesos en entornos industriales\, logísticos y comerciales. \n¿Qué aprenderás?\n✔ Tecnología Datalogic: Introducción a sus dispositivos y aplicaciones en la industria.\n✔ Marcadores Láser: Cómo mejorar el marcado y trazabilidad de productos con sistemas láser de alta precisión.\n✔ Lectores de Código: Configuración y uso de lectores fijos\, portátiles y móviles para una captura de datos eficiente.\n✔ Integración en Automatización: Cómo implementar estas soluciones en líneas de producción y almacenes. \nDirigido a:\n\nIngenieros de automatización y procesos industriales.\nResponsables de logística y almacén.\nTécnicos de mantenimiento y TI en entornos industriales.\nEmpresarios y profesionales interesados en innovación tecnológica.\n\nFecha: 12 de Agosto\nHorario: 2:00 PM – 5:00 PM\nLugar: Unlimited Electro\, Av de los Insurgentes #25420\nContacto: Edgar Aguilar | edgar.aguilar@unlimitedelectro.com | 664 251 5213 \nCupo limitado. Confirma tu asistencia hoy mismo.\nInstrucciones de registro: \n1) Selecciona cantidad de tickets y click en Get Tickets\n2) Ingresa la info de cada participante\n3) Click en Checkout Now\n4) Ingresa Nombre y correo de quien solicita los tickets\n5) Click en Get Tickets  \nCualquier duda contactar a Edgar Aguilar
URL:https://unlimitedautomationfest.com/event/seminario-marcadores-laser-y-lectores-de-codigo-12-de-agosto-tijuana/
LOCATION:Unlimited Electro\, Av de los Insurgentes\, Lomas Virreyes\, 22244 Tijuana\, B.C.\, Tijuana\, Baja California\, 22244\, Mexico
ATTACH;FMTTYPE=image/jpeg:https://unlimitedautomationfest.com/wp-content/uploads/2025/07/Datalogic-Tijuana-12-ago-01.jpg
ORGANIZER;CN="Unlimited Electro Group":MAILTO:contacto@unlimitedautomationfest.com
END:VEVENT
BEGIN:VEVENT
DTSTART;TZID=America/Tijuana:20250814T140000
DTEND;TZID=America/Tijuana:20250814T170000
DTSTAMP:20260422T062331
CREATED:20250710T190317Z
LAST-MODIFIED:20250723T155948Z
UID:457-1755180000-1755190800@unlimitedautomationfest.com
SUMMARY:Seminario: Marcadores Laser y Lectores de Codigo | 14 de Agosto | Mexicali
DESCRIPTION:En este seminario especializado\, exploraremos las tecnologías avanzadas de Datalogic\, líder mundial en marcadores láser y lectores de código de barras\, diseñados para optimizar procesos en entornos industriales\, logísticos y comerciales. \n¿Qué aprenderás?\n✔ Tecnología Datalogic: Introducción a sus dispositivos y aplicaciones en la industria.\n✔ Marcadores Láser: Cómo mejorar el marcado y trazabilidad de productos con sistemas láser de alta precisión.\n✔ Lectores de Código: Configuración y uso de lectores fijos\, portátiles y móviles para una captura de datos eficiente.\n✔ Integración en Automatización: Cómo implementar estas soluciones en líneas de producción y almacenes. \nDirigido a:\n\nIngenieros de automatización y procesos industriales.\nResponsables de logística y almacén.\nTécnicos de mantenimiento y TI en entornos industriales.\nEmpresarios y profesionales interesados en innovación tecnológica.\n\nFecha: 14 de Agosto\nHorario: 2:00 PM – 5:00 PM\nLugar: Unlimited Electro\, Plaza Cibeles\, Mexicali B.C.\nContacto: Jose Baez | jose.baez@unlimitedelectro.com | 686 174 9045 \nCupo limitado. Confirma tu asistencia hoy mismo.\nInstrucciones de registro: \n1) Selecciona cantidad de tickets\n2) Ingresa la info de cada participante\n3) Click en Checkout Now\n4) Ingresa Nombre y correo de quien solicita los tickets\n5) Click en Get Tickets \n \nCualquier duda contactar a Jose Baez
URL:https://unlimitedautomationfest.com/event/seminario-marcadores-laser-y-lectores-de-codigo-14-de-agosto-mexicali/
LOCATION:Plaza Cibeles\, Lázaro Cárdenas\, 21370 Mexicali\, Baja California\, Mexicali\, Baja California\, 21370\, Mexico
ATTACH;FMTTYPE=image/jpeg:https://unlimitedautomationfest.com/wp-content/uploads/2025/07/Datalogic-Mexicali-14-ago-01.jpg
ORGANIZER;CN="Unlimited Electro Group":MAILTO:contacto@unlimitedautomationfest.com
END:VEVENT
BEGIN:VEVENT
DTSTART;TZID=America/Tijuana:20250828T143000
DTEND;TZID=America/Tijuana:20250828T163000
DTSTAMP:20260422T062331
CREATED:20250728T220455Z
LAST-MODIFIED:20250728T222342Z
UID:572-1756391400-1756398600@unlimitedautomationfest.com
SUMMARY:Seminario: TORQUE\, Conceptos basicos y aplicaciones industriales | 28 de Agosto | Tijuana
DESCRIPTION:¿Quieres dominar los conceptos clave del TORQUE y sus aplicaciones en entornos industriales? Unlimited Electro tiene el honor de ser anfitrión del seminario especializado: “TORQUE: Conceptos básicos y aplicaciones industriales”\, impartido por los expertos de Mountz\, líderes en herramientas de torque de precisión. \nFecha: 28 de Agosto\nHorario: 2:30 PM – 4:30 PM\nLugar: Unlimited Electro\, Av de los Insurgentes #25420\nContacto: Edgar Aguilar | edgar.aguilar@unlimitedelectro.com | 664 251 5213 \nCupo limitado. Confirma tu asistencia hoy mismo.\nInstrucciones de registro:\n1) Selecciona cantidad de tickets y click en Get Tickets\n2) Ingresa la info de cada participante\n3) Click en Checkout Now\n4) Ingresa Nombre y correo de quien solicita los tickets (en caso de solicitar mas de 1 ticket)\n5) Click en Get Tickets  \nCualquier duda contactar a Edgar Aguilar
URL:https://unlimitedautomationfest.com/event/seminario-torque-conceptos-basicos-y-aplicaciones-industriales-28-de-agosto-tijuana/
LOCATION:Unlimited Electro\, Av de los Insurgentes\, Lomas Virreyes\, 22244 Tijuana\, B.C.\, Tijuana\, Baja California\, 22244\, Mexico
ATTACH;FMTTYPE=image/jpeg:https://unlimitedautomationfest.com/wp-content/uploads/2025/07/mountz-agosto-2025-tijuana-01.jpg
ORGANIZER;CN="Unlimited Electro Group":MAILTO:contacto@unlimitedautomationfest.com
END:VEVENT
BEGIN:VEVENT
DTSTART;TZID=America/Tijuana:20250829T143000
DTEND;TZID=America/Tijuana:20250829T163000
DTSTAMP:20260422T062331
CREATED:20250728T221239Z
LAST-MODIFIED:20250820T153852Z
UID:578-1756477800-1756485000@unlimitedautomationfest.com
SUMMARY:Seminario: TORQUE\, Conceptos basicos y aplicaciones industriales | 29 de Agosto | Mexicali
DESCRIPTION:¿Quieres dominar los conceptos clave del TORQUE y sus aplicaciones en entornos industriales? Unlimited Electro tiene el honor de ser anfitrión del seminario especializado: “TORQUE: Conceptos básicos y aplicaciones industriales”\, impartido por los expertos de Mountz\, líderes en herramientas de torque de precisión. \nFecha: 29 de Agosto\nHorario: 2:30 PM – 4:30 PM\nLugar: Unlimited Electro\, Plaza Cibeles\, Mexicali\nContacto: Jose Baez | jose.baez@unlimitedelectro.com | 686 174 9045 \nCupo limitado. Confirma tu asistencia hoy mismo.\nInstrucciones de registro:\n1) Selecciona cantidad de tickets y click en Get Tickets\n2) Ingresa la info de cada participante\n3) Click en Checkout Now\n4) Ingresa Nombre y correo de quien solicita los tickets (en caso de solicitar mas de 1 ticket)\n5) Click en Get Tickets 
URL:https://unlimitedautomationfest.com/event/seminario-torque-conceptos-basicos-y-aplicaciones-industriales-29-de-agosto-mexicali/
LOCATION:Plaza Cibeles\, Lázaro Cárdenas\, 21370 Mexicali\, Baja California\, Mexicali\, Baja California\, 21370\, Mexico
ATTACH;FMTTYPE=image/jpeg:https://unlimitedautomationfest.com/wp-content/uploads/2025/07/mountz-agosto-2025-mexicali-01-01.jpg
ORGANIZER;CN="Unlimited Electro Group":MAILTO:contacto@unlimitedautomationfest.com
END:VEVENT
END:VCALENDAR