BEGIN:VCALENDAR
VERSION:2.0
PRODID:-// - ECPv6.15.20//NONSGML v1.0//EN
CALSCALE:GREGORIAN
METHOD:PUBLISH
X-ORIGINAL-URL:https://unlimitedautomationfest.com
X-WR-CALDESC:Events for 
REFRESH-INTERVAL;VALUE=DURATION:PT1H
X-Robots-Tag:noindex
X-PUBLISHED-TTL:PT1H
BEGIN:VTIMEZONE
TZID:America/Tijuana
BEGIN:DAYLIGHT
TZOFFSETFROM:-0800
TZOFFSETTO:-0700
TZNAME:PDT
DTSTART:20240310T100000
END:DAYLIGHT
BEGIN:STANDARD
TZOFFSETFROM:-0700
TZOFFSETTO:-0800
TZNAME:PST
DTSTART:20241103T090000
END:STANDARD
BEGIN:DAYLIGHT
TZOFFSETFROM:-0800
TZOFFSETTO:-0700
TZNAME:PDT
DTSTART:20250309T100000
END:DAYLIGHT
BEGIN:STANDARD
TZOFFSETFROM:-0700
TZOFFSETTO:-0800
TZNAME:PST
DTSTART:20251102T090000
END:STANDARD
BEGIN:DAYLIGHT
TZOFFSETFROM:-0800
TZOFFSETTO:-0700
TZNAME:PDT
DTSTART:20260308T100000
END:DAYLIGHT
BEGIN:STANDARD
TZOFFSETFROM:-0700
TZOFFSETTO:-0800
TZNAME:PST
DTSTART:20261101T090000
END:STANDARD
END:VTIMEZONE
BEGIN:VEVENT
DTSTART;TZID=America/Tijuana:20250716T143000
DTEND;TZID=America/Tijuana:20250716T163000
DTSTAMP:20260422T151115
CREATED:20250620T204507Z
LAST-MODIFIED:20250711T192249Z
UID:325-1752676200-1752683400@unlimitedautomationfest.com
SUMMARY:Seminario: Seguridad Industrial en Máquinas | 16 de Julio | Mexicali
DESCRIPTION:Seminario: Seguridad Industrial en Máquinas\nDemostración de Equipos de Banner Engineering \n¡No pierdas la oportunidad de aprender sobre las últimas tecnologías en seguridad industrial! En este seminario práctico\, el experto Chad Christopher presentará soluciones innovadoras para la protección de máquinas y procesos industriales\, utilizando equipos de Banner Engineering\, líder en seguridad automatizada. \nIdeal para ingenieros\, técnicos y responsables de seguridad industrial. ¡Regístrate y garantiza entornos de trabajo más seguros y eficientes! \nFecha: 16 de Julio\nHorario: 2:30 PM – 4:30 PM\nLugar: Unlimited Electro\, Mexicali\nIdioma: Inglés y Español\nContacto: Jose Baez | jose.baez@unlimitedelectro.com | 686 174 9045 \nCupo limitado. Confirma tu asistencia hoy mismo.\nInstrucciones de registro: \n1) Selecciona cantidad de tickets\n2) Ingresa la info de cada participante\n3) Click en Checkout\n4) Click en Get Tickets \n5) Recibiras tu correo de confirmacion \n 
URL:https://unlimitedautomationfest.com/event/seminario-seguridad-industrial-en-maquinas-16-de-julio-mexicali/
LOCATION:Plaza Cibeles\, Lázaro Cárdenas\, 21370 Mexicali\, Baja California\, Mexicali\, Baja California\, 21370\, Mexico
ATTACH;FMTTYPE=image/jpeg:https://unlimitedautomationfest.com/wp-content/uploads/2025/06/banner-flyer-mexicali-01-2-01.jpg
ORGANIZER;CN="Unlimited Electro Group":MAILTO:contacto@unlimitedautomationfest.com
END:VEVENT
BEGIN:VEVENT
DTSTART;TZID=America/Tijuana:20250711T143000
DTEND;TZID=America/Tijuana:20250711T163000
DTSTAMP:20260422T151115
CREATED:20250617T172116Z
LAST-MODIFIED:20250710T193947Z
UID:294-1752244200-1752251400@unlimitedautomationfest.com
SUMMARY:Seminario: Seguridad Industrial en Máquinas | 11 de Julio | Tijuana
DESCRIPTION:Seminario: Seguridad Industrial en Máquinas\nDemostración de Equipos de Banner Engineering \n¡No pierdas la oportunidad de aprender sobre las últimas tecnologías en seguridad industrial! En este seminario práctico\, el experto Chad Christopher presentará soluciones innovadoras para la protección de máquinas y procesos industriales\, utilizando equipos de Banner Engineering\, líder en seguridad automatizada. \nIdeal para ingenieros\, técnicos y responsables de seguridad industrial. ¡Regístrate y garantiza entornos de trabajo más seguros y eficientes! \nFecha: 11 de Julio\nHorario: 2:30 PM – 4:30 PM\nLugar: Unlimited Electro\, Tijuana\nIdioma: Inglés\nContacto: Edgar Aguilar | edgar.aguilar@unlimitedelectro.com | 664 251 5213 \nCupo limitado. Confirma tu asistencia hoy mismo.\nInstrucciones de registro: \n1) Selecciona cantidad de tickets\n2) Ingresa la info de cada participante\n3) Click en Checkout\n4) Click en Get Tickets \n5) Recibiras tu correo de confirmacion \n 
URL:https://unlimitedautomationfest.com/event/seminario-seguridad-industrial-en-maquinas-11-de-julio-tijuana/
LOCATION:Unlimited Electro\, Av de los Insurgentes\, Lomas Virreyes\, 22244 Tijuana\, B.C.\, Tijuana\, Baja California\, 22244\, Mexico
ATTACH;FMTTYPE=image/jpeg:https://unlimitedautomationfest.com/wp-content/uploads/2025/06/banner-flyer-01.jpg
ORGANIZER;CN="Unlimited Electro Group":MAILTO:contacto@unlimitedautomationfest.com
END:VEVENT
END:VCALENDAR