BEGIN:VCALENDAR
VERSION:2.0
PRODID:-// - ECPv6.15.20//NONSGML v1.0//EN
CALSCALE:GREGORIAN
METHOD:PUBLISH
X-ORIGINAL-URL:https://unlimitedautomationfest.com
X-WR-CALDESC:Events for 
REFRESH-INTERVAL;VALUE=DURATION:PT1H
X-Robots-Tag:noindex
X-PUBLISHED-TTL:PT1H
BEGIN:VTIMEZONE
TZID:America/Tijuana
BEGIN:DAYLIGHT
TZOFFSETFROM:-0800
TZOFFSETTO:-0700
TZNAME:PDT
DTSTART:20240310T100000
END:DAYLIGHT
BEGIN:STANDARD
TZOFFSETFROM:-0700
TZOFFSETTO:-0800
TZNAME:PST
DTSTART:20241103T090000
END:STANDARD
BEGIN:DAYLIGHT
TZOFFSETFROM:-0800
TZOFFSETTO:-0700
TZNAME:PDT
DTSTART:20250309T100000
END:DAYLIGHT
BEGIN:STANDARD
TZOFFSETFROM:-0700
TZOFFSETTO:-0800
TZNAME:PST
DTSTART:20251102T090000
END:STANDARD
BEGIN:DAYLIGHT
TZOFFSETFROM:-0800
TZOFFSETTO:-0700
TZNAME:PDT
DTSTART:20260308T100000
END:DAYLIGHT
BEGIN:STANDARD
TZOFFSETFROM:-0700
TZOFFSETTO:-0800
TZNAME:PST
DTSTART:20261101T090000
END:STANDARD
END:VTIMEZONE
BEGIN:VEVENT
DTSTART;TZID=America/Tijuana:20251119T143000
DTEND;TZID=America/Tijuana:20251119T163000
DTSTAMP:20260422T032239
CREATED:20251020T225831Z
LAST-MODIFIED:20251020T230317Z
UID:699-1763562600-1763569800@unlimitedautomationfest.com
SUMMARY:Pruebas de Seguridad Eléctrica:  Metodologías Secuenciales y Simultáneas | Mexicali | 19 de Noviembre
DESCRIPTION:Titulo: Pruebas de seguridad eléctrica secuenciales y simultaneas en aplicaciones aeroespaciales\, automotrices\, médicas y de componentes electrónicos \n¿Sus procesos de seguridad eléctrica son tan eficientes y confiables como deberían ser? \nEn industrias donde la falla no es una opción\, tales como: aeroespacial\, automotriz y médica\, la elección entre pruebas de Hipot secuenciales y simultáneas es crítica. Este seminario técnico está diseñado para proporcionarle el conocimiento profundo necesario para optimizar sus protocolos de prueba\, garantizando el cumplimiento de normas y la máxima calidad de sus productos. \nEn este seminario aprenderá a: \n\n\nFundamentar la importancia de las pruebas de Hipot (AC\, DC\, IR) y sus parámetros clave. \n\n\nDiferenciar con claridad entre las metodologías secuencial y simultánea\, y sus ventajas específicas. \n\n\nDefinir la estrategia óptima de prueba para su aplicación particular. \n\n\nConocer funciones avanzadas para automatizar y mejorar sus procesos\, aumentando la eficiencia y confiabilidad. \n\n\nConozca las herramientas especializadas:\nPresentaremos en acción las soluciones de vanguardia de Chroma\, incluyendo el probador multicanal 19020 Guardian y el analizador de componentes bobinados 19036\, ideales para implementar las estrategias discutidas. \n¡Reserve su lugar hoy mismo y deje atrás la incertidumbre en sus pruebas de seguridad! \nInscríbase Hoy! \nTemario: \n\nDefinición e importancia de las pruebas de Hipot\nDiferencias entre Hipot de AC\, DC y resistencia de aislamiento (IR)\nImportancia de los tiempos de rampa\, prueba y descarga\nPruebas de Hipot secuenciales\nPruebas de Hipot simultáneas\nSelección de pruebas secuenciales o simultáneas por aplicación\nFunciones opcionales para mejorar los procesos de prueba de Hipot\nOpciones de expansión y automatización para pruebas de Hipot\n\n  \nInstrumentos: \n\n19020\n\nWebsite: Guardian Multi-Channel Hipot Tester < Chroma\nDatasheet: 19020 Multi-Channel Hipot Tester 052023.pdf\n\n\n19036\n\nWebsite: Wound Component EST Analyzer < Chroma\nDatasheet: 19036 Wound Component EST Analyzer 052023.pdf\n\n\n\n  \nHorario: 2:30 PM – 4:30 PM\nLugar: Unlimited Electro\, Plaza Cibeles\, Mexicali\nContacto: Jose Baez | jose.baez@unlimitedelectro.com | 686 174 9045 \nCupo limitado. Confirma tu asistencia hoy mismo.\nInstrucciones de registro:\n1) Selecciona cantidad de tickets y click en Get Tickets\n2) Ingresa la info de cada participante\n3) Click en Checkout Now\n4) Ingresa Nombre y correo de quien solicita los tickets (en caso de solicitar mas de 1 ticket)\n5) Click en Get Tickets 
URL:https://unlimitedautomationfest.com/event/pruebas-de-seguridad-electrica-metodologias-secuenciales-y-simultaneas-mexicali-19-de-noviembre/
LOCATION:Plaza Cibeles\, Lázaro Cárdenas\, 21370 Mexicali\, Baja California\, Mexicali\, Baja California\, 21370\, Mexico
ATTACH;FMTTYPE=image/jpeg:https://unlimitedautomationfest.com/wp-content/uploads/2025/10/seminario-chroma-mxl.jpg
ORGANIZER;CN="Unlimited Electro Group":MAILTO:contacto@unlimitedautomationfest.com
END:VEVENT
END:VCALENDAR